BEGIN:VCALENDAR
VERSION:2.0
PRODID:-//Plone.org//NONSGML plone.app.event//EN
X-WR-TIMEZONE:Europe/Madrid
BEGIN:VEVENT
SUMMARY:Homenatge a Jordi Sisquella
DTSTART;TZID=Europe/Madrid;VALUE=DATE-TIME:20250713T110000
DTEND;TZID=Europe/Madrid;VALUE=DATE-TIME:20250713T120000
DTSTAMP;VALUE=DATE-TIME:20260421T130740Z
UID:db0bf3b8e47e48c48bc0937ebb49eae8
CREATED;VALUE=DATE-TIME:20250713T000000Z
LOCATION:Sala Odèon del TMC - Plaça 1 d'octubre i Escola de Teixits
ORGANIZER:ACPO i Àrea de Cultura
DESCRIPTION:Festa Major 2025
URL:https://www.canetdemar.cat/document.php?id=27646
END:VEVENT
END:VCALENDAR