BEGIN:VCALENDAR
VERSION:2.0
PRODID:-//Plone.org//NONSGML plone.app.event//EN
X-WR-TIMEZONE:Europe/Madrid
BEGIN:VEVENT
SUMMARY:La Masoveria de Festa Major
DTSTART;TZID=Europe/Madrid;VALUE=DATE-TIME:20250625T180000
DTEND;TZID=Europe/Madrid;VALUE=DATE-TIME:20250625T190000
DTSTAMP;VALUE=DATE-TIME:20260421T131735Z
UID:dacc9657929c2cd81642dd7cfbdee22b
CREATED;VALUE=DATE-TIME:20250625T000000Z
LOCATION:La Masoveria
ORGANIZER:La Masoveria  - Àrea de Joventut
COMMENT:Durada: 25, 26 i 27 de juny de 2025
DESCRIPTION:Festa Major 2025
URL:https://www.canetdemar.cat/document.php?id=27620
END:VEVENT
END:VCALENDAR