BEGIN:VCALENDAR
VERSION:2.0
PRODID:-//Plone.org//NONSGML plone.app.event//EN
X-WR-TIMEZONE:Europe/Madrid
BEGIN:VEVENT
SUMMARY:Activitats infantils
DTSTART;TZID=Europe/Madrid;VALUE=DATE-TIME:20250625T180000
DTEND;TZID=Europe/Madrid;VALUE=DATE-TIME:20250625T190000
DTSTAMP;VALUE=DATE-TIME:20260425T211155Z
UID:fa324f30abaa4a2dd42dc783740adaa0
CREATED;VALUE=DATE-TIME:20250625T000000Z
LOCATION:Plaça 11 de Setembre
ORGANIZER:Àrea de Festes
DESCRIPTION:Festa Major 2025
URL:https://www.canetdemar.cat/document.php?id=27619
END:VEVENT
END:VCALENDAR