BEGIN:VCALENDAR
VERSION:2.0
PRODID:-//Plone.org//NONSGML plone.app.event//EN
X-WR-TIMEZONE:Europe/Madrid
BEGIN:VEVENT
SUMMARY:Revetlla de Sant Joan
DTSTART;TZID=Europe/Madrid;VALUE=DATE-TIME:20250623T190000
DTEND;TZID=Europe/Madrid;VALUE=DATE-TIME:20250623T200000
DTSTAMP;VALUE=DATE-TIME:20260425T211240Z
UID:b934be336bd39daf16bf4f5445b78b9a
CREATED;VALUE=DATE-TIME:20250623T000000Z
LOCATION:Passeig Marítim, davant l'antiga oficina de turisme
ORGANIZER:Associació Juvenil Kneteo i Àrea de Festes
DESCRIPTION:Festa Major 2025
URL:https://www.canetdemar.cat/document.php?id=27616
END:VEVENT
END:VCALENDAR