BEGIN:VCALENDAR
VERSION:2.0
PRODID:-//Plone.org//NONSGML plone.app.event//EN
X-WR-TIMEZONE:Europe/Madrid
BEGIN:VEVENT
SUMMARY:Festa celebració 20è aniversari de l'esplai Bitxus
DTSTART;TZID=Europe/Madrid;VALUE=DATE-TIME:20250621T180000
DTEND;TZID=Europe/Madrid;VALUE=DATE-TIME:20250621T190000
DTSTAMP;VALUE=DATE-TIME:20260424T024320Z
UID:b23c745e946db87bef0073149c715037
CREATED;VALUE=DATE-TIME:20250621T000000Z
LOCATION:Plaça Macià
ORGANIZER:Associació Juvenil Esplai Bitxus i Àrea de Joventut
DESCRIPTION:Festa Major 2025
URL:https://www.canetdemar.cat/document.php?id=27610
END:VEVENT
END:VCALENDAR