BEGIN:VCALENDAR
VERSION:2.0
PRODID:-//Plone.org//NONSGML plone.app.event//EN
X-WR-TIMEZONE:Europe/Madrid
BEGIN:VEVENT
SUMMARY:Bingo Musical
DTSTART;TZID=Europe/Madrid;VALUE=DATE-TIME:20250620T203000
DTEND;TZID=Europe/Madrid;VALUE=DATE-TIME:20250620T213000
DTSTAMP;VALUE=DATE-TIME:20260425T123931Z
UID:e5baf557479f4d813e88645e788f265b
CREATED;VALUE=DATE-TIME:20250620T000000Z
LOCATION:Plaça Macià
ORGANIZER:Associació Canet Cultural, Àrea de Cultura i Àrea de Festes
DESCRIPTION:Festa Major 2025
URL:https://www.canetdemar.cat/document.php?id=27609
END:VEVENT
END:VCALENDAR