BEGIN:VCALENDAR
VERSION:2.0
PRODID:-//Plone.org//NONSGML plone.app.event//EN
X-WR-TIMEZONE:Europe/Madrid
BEGIN:VEVENT
SUMMARY:Ruta indiana per Canet de Mar
DTSTART;TZID=Europe/Madrid;VALUE=DATE-TIME:20250614T173000
DTEND;TZID=Europe/Madrid;VALUE=DATE-TIME:20250614T183000
DTSTAMP;VALUE=DATE-TIME:20260422T054501Z
UID:c553fa1c6aecbcdb78dd91c5517a23d8
CREATED;VALUE=DATE-TIME:20250614T000000Z
CATEGORIES:Visita guiada
LOCATION:Plaça de la Llenya
ORGANIZER:Ajuntament de Canet de Mar i Centre d'Estudis Lluís Domènech i Montaner
COMMENT:Preu: 10 &euro;
Durada: 1 h
URL:https://www.canetdemar.cat/document.php?id=27597
END:VEVENT
END:VCALENDAR