BEGIN:VCALENDAR
VERSION:2.0
PRODID:-//Plone.org//NONSGML plone.app.event//EN
X-WR-TIMEZONE:Europe/Madrid
BEGIN:VEVENT
SUMMARY:Jornada Indiana
DTSTART;TZID=Europe/Madrid;VALUE=DATE-TIME:20250614T170000
DTEND;TZID=Europe/Madrid;VALUE=DATE-TIME:20250614T180000
DTSTAMP;VALUE=DATE-TIME:20260423T000142Z
UID:482d6499d06d80862dda80bc08147268
CREATED;VALUE=DATE-TIME:20250614T000000Z
CATEGORIES:Mostra
LOCATION:Al Carrer ample
ORGANIZER:Àrea de Turisme-Ajuntament de Canet de Mar
COMMENT:Durada: 17 a 23h
URL:https://www.canetdemar.cat/document.php?id=27573
END:VEVENT
END:VCALENDAR