BEGIN:VCALENDAR
VERSION:2.0
PRODID:-//Plone.org//NONSGML plone.app.event//EN
X-WR-TIMEZONE:Europe/Madrid
BEGIN:VEVENT
SUMMARY:Ballada sardanes
DTSTART;TZID=Europe/Madrid;VALUE=DATE-TIME:20250531T190000
DTEND;TZID=Europe/Madrid;VALUE=DATE-TIME:20250531T200000
DTSTAMP;VALUE=DATE-TIME:20260423T054147Z
UID:949685be3fdc098d62fa080db07d18b4
CREATED;VALUE=DATE-TIME:20250531T000000Z
CATEGORIES:Dansa,Música,Agenda institucional
LOCATION:Riera Sant Domènec
ORGANIZER:Amics de la sardana
COMMENT:Preu: Gratuït
Durada: 19.00h a 21.00h
URL:https://www.canetdemar.cat/document.php?id=27571
END:VEVENT
END:VCALENDAR