BEGIN:VCALENDAR
VERSION:2.0
PRODID:-//Plone.org//NONSGML plone.app.event//EN
X-WR-TIMEZONE:Europe/Madrid
BEGIN:VEVENT
SUMMARY:Descoberta dels rials: els Ruals - Rial de Can Pouet
DTSTART;TZID=Europe/Madrid;VALUE=DATE-TIME:20070114T100000
DTEND;TZID=Europe/Madrid;VALUE=DATE-TIME:20070114T110000
DTSTAMP;VALUE=DATE-TIME:20260424T152848Z
UID:b41b8f7c9e9215ebc2c16e05cc4c8a3a
CREATED;VALUE=DATE-TIME:20070114T000000Z
LOCATION:Sortida des de la plaça 11 de Setembre
ORGANIZER:Fot-li castanya! ACPO
COMMENT:Durada: unes 3 hores
URL:https://www.canetdemar.cat/document.php?id=2757
END:VEVENT
END:VCALENDAR