BEGIN:VCALENDAR
VERSION:2.0
PRODID:-//Plone.org//NONSGML plone.app.event//EN
X-WR-TIMEZONE:Europe/Madrid
BEGIN:VEVENT
SUMMARY:Avui llegim!
DTSTART;TZID=Europe/Madrid;VALUE=DATE-TIME:20250625T183000
DTEND;TZID=Europe/Madrid;VALUE=DATE-TIME:20250625T193000
DTSTAMP;VALUE=DATE-TIME:20260424T220124Z
UID:994d2113735ad5f0a3995265d1f7311b
CREATED;VALUE=DATE-TIME:20250625T000000Z
CATEGORIES:Infantils
LOCATION:Biblioteca P. Gual i Pujadas
ORGANIZER:Biblioteca P. Gual i Pujadas
COMMENT:Preu: Gratuït
DESCRIPTION:Les cireres viatgeres (Aprèn a llegir amb l'agència Remei) de Vivim del Cuentu
URL:https://www.canetdemar.cat/document.php?id=27569
END:VEVENT
END:VCALENDAR