BEGIN:VCALENDAR
VERSION:2.0
PRODID:-//Plone.org//NONSGML plone.app.event//EN
X-WR-TIMEZONE:Europe/Madrid
BEGIN:VEVENT
SUMMARY:La biblioteca dels llibres rebutjats de David Foenkinos
DTSTART;TZID=Europe/Madrid;VALUE=DATE-TIME:20250620T163000
DTEND;TZID=Europe/Madrid;VALUE=DATE-TIME:20250620T173000
DTSTAMP;VALUE=DATE-TIME:20260423T235558Z
UID:66137572a6abd52b827bd778a0278f61
CREATED;VALUE=DATE-TIME:20250620T000000Z
CATEGORIES:Literatura
LOCATION:Biblioteca P. Gual i Pujadas
ORGANIZER:Biblioteca P. Gual i Pujadas
COMMENT:Preu: Gratuït
DESCRIPTION:Club de Lectura
URL:https://www.canetdemar.cat/document.php?id=27568
END:VEVENT
END:VCALENDAR