BEGIN:VCALENDAR
VERSION:2.0
PRODID:-//Plone.org//NONSGML plone.app.event//EN
X-WR-TIMEZONE:Europe/Madrid
BEGIN:VEVENT
SUMMARY:Club de Lectura Molteslleltres
DTSTART;TZID=Europe/Madrid;VALUE=DATE-TIME:20250612T173000
DTEND;TZID=Europe/Madrid;VALUE=DATE-TIME:20250612T183000
DTSTAMP;VALUE=DATE-TIME:20260423T001355Z
UID:a1120584a7fd440b0f057a05ecedaa1f
CREATED;VALUE=DATE-TIME:20250612T000000Z
CATEGORIES:Literatura,Infantils
LOCATION:Biblioteca P. Gual i Pujadas
ORGANIZER:Biblioteca P. Gual i Pujadas
COMMENT:Preu: Gratuït
DESCRIPTION:Un dia de pesca de Marianne Dubuc
URL:https://www.canetdemar.cat/document.php?id=27566
END:VEVENT
END:VCALENDAR