BEGIN:VCALENDAR
VERSION:2.0
PRODID:-//Plone.org//NONSGML plone.app.event//EN
X-WR-TIMEZONE:Europe/Madrid
BEGIN:VEVENT
SUMMARY:L'hora del conte. Amb Ricard Ull distret
DTSTART;TZID=Europe/Madrid;VALUE=DATE-TIME:20070113T120000
DTEND;TZID=Europe/Madrid;VALUE=DATE-TIME:20070113T130000
DTSTAMP;VALUE=DATE-TIME:20260422T235502Z
UID:81de19c36260a187ca76d3bdfe688f23
CREATED;VALUE=DATE-TIME:20070113T000000Z
CATEGORIES:Infantils
LOCATION:Biblioteca
ORGANIZER:Biblioteca P. Gual i Pujadas
URL:https://www.canetdemar.cat/document.php?id=2756
END:VEVENT
END:VCALENDAR