BEGIN:VCALENDAR
VERSION:2.0
PRODID:-//Plone.org//NONSGML plone.app.event//EN
X-WR-TIMEZONE:Europe/Madrid
BEGIN:VEVENT
SUMMARY:Trobada amb un entitat de Canet
DTSTART;TZID=Europe/Madrid;VALUE=DATE-TIME:20250508T120000
DTEND;TZID=Europe/Madrid;VALUE=DATE-TIME:20250508T130000
DTSTAMP;VALUE=DATE-TIME:20260419T154850Z
UID:cdb646df372208decf95d343363ef479
CREATED;VALUE=DATE-TIME:20250508T000000Z
CATEGORIES:Agenda institucional
LOCATION:Despatx de l'alcaldia
URL:https://www.canetdemar.cat/document.php?id=27511
END:VEVENT
END:VCALENDAR