BEGIN:VCALENDAR
VERSION:2.0
PRODID:-//Plone.org//NONSGML plone.app.event//EN
X-WR-TIMEZONE:Europe/Madrid
BEGIN:VEVENT
SUMMARY:Reunió de coordinació amb les àrees d'alcaldia i comunicació
DTSTART;TZID=Europe/Madrid;VALUE=DATE-TIME:20250505T093000
DTEND;TZID=Europe/Madrid;VALUE=DATE-TIME:20250505T103000
DTSTAMP;VALUE=DATE-TIME:20260423T235409Z
UID:798f9a52bf15fc3bca470b3b5ac6ce75
CREATED;VALUE=DATE-TIME:20250505T000000Z
CATEGORIES:Agenda institucional
LOCATION:Despatx de l'alcaldia
URL:https://www.canetdemar.cat/document.php?id=27502
END:VEVENT
END:VCALENDAR