BEGIN:VCALENDAR
VERSION:2.0
PRODID:-//Plone.org//NONSGML plone.app.event//EN
X-WR-TIMEZONE:Europe/Madrid
BEGIN:VEVENT
SUMMARY:Visita institucional a la Residència Guillem Mas
DTSTART;TZID=Europe/Madrid;VALUE=DATE-TIME:20250423T123000
DTEND;TZID=Europe/Madrid;VALUE=DATE-TIME:20250423T133000
DTSTAMP;VALUE=DATE-TIME:20260426T063634Z
UID:5c5f84d90ccadc415719cef61018bbcb
CREATED;VALUE=DATE-TIME:20250423T000000Z
CATEGORIES:Agenda institucional
LOCATION:Residència Guillem Mas
URL:https://www.canetdemar.cat/document.php?id=27475
END:VEVENT
END:VCALENDAR