BEGIN:VCALENDAR
VERSION:2.0
PRODID:-//Plone.org//NONSGML plone.app.event//EN
X-WR-TIMEZONE:Europe/Madrid
BEGIN:VEVENT
SUMMARY:Sala d'estudi. Setmana Verda
DTSTART;TZID=Europe/Madrid;VALUE=DATE-TIME:20250603T000000
DTEND;TZID=Europe/Madrid;VALUE=DATE-TIME:20250603T010000
DTSTAMP;VALUE=DATE-TIME:20260424T114840Z
UID:408d7b12b811047d3684acee1fc2d09a
CREATED;VALUE=DATE-TIME:20250527T000000Z
LOCATION:Biblioteca P. Gual i Pujadas
ORGANIZER:Biblioteca P. Gual i Pujadas
COMMENT:Preu: Gratuït
URL:https://www.canetdemar.cat/document.php?id=27438
END:VEVENT
END:VCALENDAR