BEGIN:VCALENDAR
VERSION:2.0
PRODID:-//Plone.org//NONSGML plone.app.event//EN
X-WR-TIMEZONE:Europe/Madrid
BEGIN:VEVENT
SUMMARY:Taller:  Més digitals
DTSTART;TZID=Europe/Madrid;VALUE=DATE-TIME:20250617T100000
DTEND;TZID=Europe/Madrid;VALUE=DATE-TIME:20250617T110000
DTSTAMP;VALUE=DATE-TIME:20260424T023913Z
UID:490b0724469f22fbd7232a08f482e3d1
CREATED;VALUE=DATE-TIME:20250617T000000Z
CATEGORIES:Cursos
LOCATION:Biblioteca P. Gual i Pujadas
ORGANIZER:Biblioteca P. Gual i Pujadas
COMMENT:Preu: Gratuït
DESCRIPTION:Formació en competències digitals
URL:https://www.canetdemar.cat/document.php?id=27427
END:VEVENT
END:VCALENDAR