BEGIN:VCALENDAR
VERSION:2.0
PRODID:-//Plone.org//NONSGML plone.app.event//EN
X-WR-TIMEZONE:Europe/Madrid
BEGIN:VEVENT
SUMMARY:Presentació Festival Jardins de Comediants
DTSTART;TZID=Europe/Madrid;VALUE=DATE-TIME:20250601T120000
DTEND;TZID=Europe/Madrid;VALUE=DATE-TIME:20250601T130000
DTSTAMP;VALUE=DATE-TIME:20260424T011931Z
UID:e5a08a7ed5be070be46ae33a7c9d1bae
CREATED;VALUE=DATE-TIME:20250601T000000Z
CATEGORIES:Música
LOCATION:Jardins Comediants
COMMENT:Preu: socis 9&euro; - Entràpolis 12&euro; - No socis 12&euro;
Durada: 2H
DESCRIPTION:Concert FILDEGOSPEL
URL:https://www.canetdemar.cat/document.php?id=27394
END:VEVENT
END:VCALENDAR