BEGIN:VCALENDAR
VERSION:2.0
PRODID:-//Plone.org//NONSGML plone.app.event//EN
X-WR-TIMEZONE:Europe/Madrid
BEGIN:VEVENT
SUMMARY:Espectros del arcoíris de Ruben Mettini
DTSTART;TZID=Europe/Madrid;VALUE=DATE-TIME:20250523T180000
DTEND;TZID=Europe/Madrid;VALUE=DATE-TIME:20250523T190000
DTSTAMP;VALUE=DATE-TIME:20260423T115559Z
UID:a2e096a0c9c4495ae65d3934478e2514
CREATED;VALUE=DATE-TIME:20250523T000000Z
CATEGORIES:Literatura
LOCATION:Biblioteca P. Gual i Pujadas
ORGANIZER:Biblioteca P. Gual i Pujadas
COMMENT:Preu: Gratuït
DESCRIPTION:Presentació del llibre
URL:https://www.canetdemar.cat/document.php?id=27375
END:VEVENT
END:VCALENDAR