BEGIN:VCALENDAR
VERSION:2.0
PRODID:-//Plone.org//NONSGML plone.app.event//EN
X-WR-TIMEZONE:Europe/Madrid
BEGIN:VEVENT
SUMMARY:Arribada del missatger reial
DTSTART;TZID=Europe/Madrid;VALUE=DATE-TIME:20061231T110000
DTEND;TZID=Europe/Madrid;VALUE=DATE-TIME:20061231T120000
DTSTAMP;VALUE=DATE-TIME:20260422T144314Z
UID:1df126ac5fcaff3b104dfc5649f96ac7
CREATED;VALUE=DATE-TIME:20061231T000000Z
LOCATION:Riera Sant Domènec
URL:https://www.canetdemar.cat/document.php?id=2735
END:VEVENT
END:VCALENDAR