BEGIN:VCALENDAR
VERSION:2.0
PRODID:-//Plone.org//NONSGML plone.app.event//EN
X-WR-TIMEZONE:Europe/Madrid
BEGIN:VEVENT
SUMMARY:Fira d'Artesania
DTSTART;TZID=Europe/Madrid;VALUE=DATE-TIME:20250504T100000
DTEND;TZID=Europe/Madrid;VALUE=DATE-TIME:20250504T110000
DTSTAMP;VALUE=DATE-TIME:20260421T124415Z
UID:3633269bbc6cb779b7d32d6f4cf94ab6
CREATED;VALUE=DATE-TIME:20250503T000000Z
CATEGORIES:Mostra,Festa
LOCATION:Riera St. Domènec i carrer Ample
DESCRIPTION:FeFaNet
URL:https://www.canetdemar.cat/document.php?id=27303
END:VEVENT
END:VCALENDAR