BEGIN:VCALENDAR
VERSION:2.0
PRODID:-//Plone.org//NONSGML plone.app.event//EN
X-WR-TIMEZONE:Europe/Madrid
BEGIN:VEVENT
SUMMARY:Vine a comprar!
DTSTART;TZID=Europe/Madrid;VALUE=DATE-TIME:20061222T000000
DTEND;TZID=Europe/Madrid;VALUE=DATE-TIME:20061222T010000
DTSTAMP;VALUE=DATE-TIME:20260424T035920Z
UID:c0f8958787e5ee04cacfc0e70997de05
CREATED;VALUE=DATE-TIME:20061222T000000Z
LOCATION:Plaça Mercat
DESCRIPTION:22 i 23 de desembre
URL:https://www.canetdemar.cat/document.php?id=2730
END:VEVENT
END:VCALENDAR