BEGIN:VCALENDAR
VERSION:2.0
PRODID:-//Plone.org//NONSGML plone.app.event//EN
X-WR-TIMEZONE:Europe/Madrid
BEGIN:VEVENT
SUMMARY:Celebració de l'Any Jubilar 2025 al Santuari de la Mare de Déu de la Misericòrdia
DTSTART;TZID=Europe/Madrid;VALUE=DATE-TIME:20250502T120000
DTEND;TZID=Europe/Madrid;VALUE=DATE-TIME:20250502T130000
DTSTAMP;VALUE=DATE-TIME:20260423T203740Z
UID:7912c93a3840dff9491b78d42b14f042
CREATED;VALUE=DATE-TIME:20250502T000000Z
LOCATION:Santuari de la Mare de Déu de la Misericòrdia
ORGANIZER:Parroquia de Sant Pere i Sant Pau
DESCRIPTION:Tots els divendres a les 12 del migdia res de l'Àngelus i cant de la Salve.
URL:https://www.canetdemar.cat/document.php?id=27291
END:VEVENT
END:VCALENDAR