BEGIN:VCALENDAR
VERSION:2.0
PRODID:-//Plone.org//NONSGML plone.app.event//EN
X-WR-TIMEZONE:Europe/Madrid
BEGIN:VEVENT
SUMMARY:Fem el pessebre
DTSTART;TZID=Europe/Madrid;VALUE=DATE-TIME:20061217T110000
DTEND;TZID=Europe/Madrid;VALUE=DATE-TIME:20061217T120000
DTSTAMP;VALUE=DATE-TIME:20260424T130312Z
UID:3686064ecef4ac7ed704304f4ac36725
CREATED;VALUE=DATE-TIME:20061217T000000Z
LOCATION:Plaça Macià
URL:https://www.canetdemar.cat/document.php?id=2729
END:VEVENT
END:VCALENDAR