BEGIN:VCALENDAR
VERSION:2.0
PRODID:-//Plone.org//NONSGML plone.app.event//EN
X-WR-TIMEZONE:Europe/Madrid
BEGIN:VEVENT
SUMMARY:Visita institucional al centre ITA de Canet
DTSTART;TZID=Europe/Madrid;VALUE=DATE-TIME:20250329T110000
DTEND;TZID=Europe/Madrid;VALUE=DATE-TIME:20250329T120000
DTSTAMP;VALUE=DATE-TIME:20260423T235238Z
UID:2dcd3624b8c7877b8fbe3a0f8846d00b
CREATED;VALUE=DATE-TIME:20250329T000000Z
CATEGORIES:Agenda institucional
LOCATION:Instal·lacions del Centre
URL:https://www.canetdemar.cat/document.php?id=27267
END:VEVENT
END:VCALENDAR