BEGIN:VCALENDAR
VERSION:2.0
PRODID:-//Plone.org//NONSGML plone.app.event//EN
X-WR-TIMEZONE:Europe/Madrid
BEGIN:VEVENT
SUMMARY:Reunió amb un veí de Canet
DTSTART;TZID=Europe/Madrid;VALUE=DATE-TIME:20250321T093000
DTEND;TZID=Europe/Madrid;VALUE=DATE-TIME:20250321T103000
DTSTAMP;VALUE=DATE-TIME:20260423T001124Z
UID:90265077cfbc29656db88e057e2ddfd8
CREATED;VALUE=DATE-TIME:20250321T000000Z
CATEGORIES:Agenda institucional
URL:https://www.canetdemar.cat/document.php?id=27251
END:VEVENT
END:VCALENDAR