BEGIN:VCALENDAR
VERSION:2.0
PRODID:-//Plone.org//NONSGML plone.app.event//EN
X-WR-TIMEZONE:Europe/Madrid
BEGIN:VEVENT
SUMMARY:Reunió informativa grups municipals sobre dades de seguretat al municipi
DTSTART;TZID=Europe/Madrid;VALUE=DATE-TIME:20250320T193000
DTEND;TZID=Europe/Madrid;VALUE=DATE-TIME:20250320T203000
DTSTAMP;VALUE=DATE-TIME:20260421T224446Z
UID:a059fbff277d987974c02199f28c1386
CREATED;VALUE=DATE-TIME:20250320T000000Z
CATEGORIES:Agenda institucional
LOCATION:Sala annexa Alcaldia
URL:https://www.canetdemar.cat/document.php?id=27250
END:VEVENT
END:VCALENDAR