BEGIN:VCALENDAR
VERSION:2.0
PRODID:-//Plone.org//NONSGML plone.app.event//EN
X-WR-TIMEZONE:Europe/Madrid
BEGIN:VEVENT
SUMMARY:Visita Institut Lluís Domènech i Montaner
DTSTART;TZID=Europe/Madrid;VALUE=DATE-TIME:20250319T133000
DTEND;TZID=Europe/Madrid;VALUE=DATE-TIME:20250319T143000
DTSTAMP;VALUE=DATE-TIME:20260420T051813Z
UID:0daec53b976578284b0b869b0dab5449
CREATED;VALUE=DATE-TIME:20250319T000000Z
CATEGORIES:Agenda institucional
LOCATION:Sala escènica de l'Institut
URL:https://www.canetdemar.cat/document.php?id=27242
END:VEVENT
END:VCALENDAR