BEGIN:VCALENDAR
VERSION:2.0
PRODID:-//Plone.org//NONSGML plone.app.event//EN
X-WR-TIMEZONE:Europe/Madrid
BEGIN:VEVENT
SUMMARY:Presa de possessió d'un treballador municipal
DTSTART;TZID=Europe/Madrid;VALUE=DATE-TIME:20250313T113000
DTEND;TZID=Europe/Madrid;VALUE=DATE-TIME:20250313T123000
DTSTAMP;VALUE=DATE-TIME:20260425T003656Z
UID:b9397ab446d396c9cd123e0e88667a56
CREATED;VALUE=DATE-TIME:20250313T000000Z
CATEGORIES:Agenda institucional
LOCATION:Despatx de l'alcaldia
URL:https://www.canetdemar.cat/document.php?id=27232
END:VEVENT
END:VCALENDAR