BEGIN:VCALENDAR
VERSION:2.0
PRODID:-//Plone.org//NONSGML plone.app.event//EN
X-WR-TIMEZONE:Europe/Madrid
BEGIN:VEVENT
SUMMARY:Exposició col·lectiva de Nadal
DTSTART;TZID=Europe/Madrid;VALUE=DATE-TIME:20061218T000000
DTEND;TZID=Europe/Madrid;VALUE=DATE-TIME:20061218T010000
DTSTAMP;VALUE=DATE-TIME:20260423T000057Z
UID:22e61043ac9fa07db50c46844594ce28
CREATED;VALUE=DATE-TIME:20061218T000000Z
CATEGORIES:Exposició
LOCATION:Sala municipal d'exposicions
ORGANIZER:Àrea de Cultura
DESCRIPTION:Del 14 de desembre al 7 de gener. Inauguració el dia 14 a les 19.00 hores
URL:https://www.canetdemar.cat/document.php?id=2723
END:VEVENT
END:VCALENDAR