BEGIN:VCALENDAR
VERSION:2.0
PRODID:-//Plone.org//NONSGML plone.app.event//EN
X-WR-TIMEZONE:Europe/Madrid
BEGIN:VEVENT
SUMMARY:Entrevista Ràdio Canet posterior a l'acte de retiment de comptes del PAM
DTSTART;TZID=Europe/Madrid;VALUE=DATE-TIME:20250313T090000
DTEND;TZID=Europe/Madrid;VALUE=DATE-TIME:20250313T100000
DTSTAMP;VALUE=DATE-TIME:20260424T040245Z
UID:b596580c279e4a800582e83e9a5058af
CREATED;VALUE=DATE-TIME:20250313T000000Z
CATEGORIES:Agenda institucional
LOCATION:Estudis de Ràdio Canet
URL:https://www.canetdemar.cat/document.php?id=27229
END:VEVENT
END:VCALENDAR