BEGIN:VCALENDAR
VERSION:2.0
PRODID:-//Plone.org//NONSGML plone.app.event//EN
X-WR-TIMEZONE:Europe/Madrid
BEGIN:VEVENT
SUMMARY:Recepció directius Ibercaja
DTSTART;TZID=Europe/Madrid;VALUE=DATE-TIME:20250312T110000
DTEND;TZID=Europe/Madrid;VALUE=DATE-TIME:20250312T120000
DTSTAMP;VALUE=DATE-TIME:20260425T192808Z
UID:dce12d205b28555e09edb8b0641bba33
CREATED;VALUE=DATE-TIME:20250312T000000Z
CATEGORIES:Agenda institucional
LOCATION:Casa Museu
URL:https://www.canetdemar.cat/document.php?id=27227
END:VEVENT
END:VCALENDAR