BEGIN:VCALENDAR
VERSION:2.0
PRODID:-//Plone.org//NONSGML plone.app.event//EN
X-WR-TIMEZONE:Europe/Madrid
BEGIN:VEVENT
SUMMARY:1r concurs de Nadales Per Nadal cantem nadales
DTSTART;TZID=Europe/Madrid;VALUE=DATE-TIME:20061230T210000
DTEND;TZID=Europe/Madrid;VALUE=DATE-TIME:20061230T220000
DTSTAMP;VALUE=DATE-TIME:20260425T141514Z
UID:e9f115a121d928e08cd35f997161b7dd
CREATED;VALUE=DATE-TIME:20061230T000000Z
CATEGORIES:Música
LOCATION:Església parroquial
ORGANIZER:Àrees de Cultura i Joventut. Per a més informació: el Puntdi
URL:https://www.canetdemar.cat/document.php?id=2722
END:VEVENT
END:VCALENDAR