BEGIN:VCALENDAR
VERSION:2.0
PRODID:-//Plone.org//NONSGML plone.app.event//EN
X-WR-TIMEZONE:Europe/Madrid
BEGIN:VEVENT
SUMMARY:La visita d'un inspector
DTSTART;TZID=Europe/Madrid;VALUE=DATE-TIME:20250412T200000
DTEND;TZID=Europe/Madrid;VALUE=DATE-TIME:20250412T210000
DTSTAMP;VALUE=DATE-TIME:20260423T090109Z
UID:fe9fbb644cd315b3f5a312708eca741e
CREATED;VALUE=DATE-TIME:20250412T000000Z
CATEGORIES:Teatre
LOCATION:Sala Odèon del TMC - Plaça 1 d'octubre
URL:https://www.canetdemar.cat/document.php?id=27214
END:VEVENT
END:VCALENDAR