BEGIN:VCALENDAR
VERSION:2.0
PRODID:-//Plone.org//NONSGML plone.app.event//EN
X-WR-TIMEZONE:Europe/Madrid
BEGIN:VEVENT
SUMMARY:Parc infantil i juvenil de Nadal
DTSTART;TZID=Europe/Madrid;VALUE=DATE-TIME:20061227T000000
DTEND;TZID=Europe/Madrid;VALUE=DATE-TIME:20061227T010000
DTSTAMP;VALUE=DATE-TIME:20260424T120713Z
UID:1fcbe21744bfe82308bc9dbced743bad
CREATED;VALUE=DATE-TIME:20061227T000000Z
CATEGORIES:Festa,Infantils
LOCATION:Recinte de Vil·la Flora
ORGANIZER:Àrees de Cultura, Educació i Infància i Joventut
COMMENT:Durada: del 27 al 30 de desembre, d'11.00 a 14.00 i de 17.00 a 20.00 hores
URL:https://www.canetdemar.cat/document.php?id=2721
END:VEVENT
END:VCALENDAR