BEGIN:VCALENDAR
VERSION:2.0
PRODID:-//Plone.org//NONSGML plone.app.event//EN
X-WR-TIMEZONE:Europe/Madrid
BEGIN:VEVENT
SUMMARY:La campana de vidre de Sylvia Plath
DTSTART;TZID=Europe/Madrid;VALUE=DATE-TIME:20250425T000000
DTEND;TZID=Europe/Madrid;VALUE=DATE-TIME:20250425T010000
DTSTAMP;VALUE=DATE-TIME:20260425T222719Z
UID:14cac1d2ce74aa1cbb8085e14aca3fe5
CREATED;VALUE=DATE-TIME:20250425T000000Z
CATEGORIES:Literatura
LOCATION:Biblioteca P. Gual i Pujadas
ORGANIZER:Biblioteca P. Gual i Pujadas
COMMENT:Preu: Gratuït
DESCRIPTION:Club de Lectura
URL:https://www.canetdemar.cat/document.php?id=27183
END:VEVENT
END:VCALENDAR