BEGIN:VCALENDAR
VERSION:2.0
PRODID:-//Plone.org//NONSGML plone.app.event//EN
X-WR-TIMEZONE:Europe/Madrid
BEGIN:VEVENT
SUMMARY:Concert de Nadal
DTSTART;TZID=Europe/Madrid;VALUE=DATE-TIME:20061217T110000
DTEND;TZID=Europe/Madrid;VALUE=DATE-TIME:20061217T120000
DTSTAMP;VALUE=DATE-TIME:20260424T101303Z
UID:05bea25edc6b4f40ee96ce91f174828e
CREATED;VALUE=DATE-TIME:20061217T000000Z
CATEGORIES:Música
LOCATION:Auditori Jaume Dotras i Serrabella
ORGANIZER:Escola de música
URL:https://www.canetdemar.cat/document.php?id=2718
END:VEVENT
END:VCALENDAR