BEGIN:VCALENDAR
VERSION:2.0
PRODID:-//Plone.org//NONSGML plone.app.event//EN
X-WR-TIMEZONE:Europe/Madrid
BEGIN:VEVENT
SUMMARY:Un passeig per la ciutat de l'eternitat
DTSTART;TZID=Europe/Madrid;VALUE=DATE-TIME:20250405T190000
DTEND;TZID=Europe/Madrid;VALUE=DATE-TIME:20250405T200000
DTSTAMP;VALUE=DATE-TIME:20260424T194955Z
UID:bea00f736db6e7d6cbe6b92b117f5763
CREATED;VALUE=DATE-TIME:20250405T000000Z
CATEGORIES:Visita guiada
LOCATION:Porta del cementiri del Tanatori municipal
ORGANIZER:Àrea de Turisme-Ajuntament de Canet de Mar
COMMENT:Preu: 10&euro; (descompte: jubilat, aturat, estudiant o amb carnet de biblioteca 6&euro;)
Durada: 1 hora
DESCRIPTION:Cementiri al capvespre
URL:https://www.canetdemar.cat/document.php?id=27174
END:VEVENT
END:VCALENDAR