BEGIN:VCALENDAR
VERSION:2.0
PRODID:-//Plone.org//NONSGML plone.app.event//EN
X-WR-TIMEZONE:Europe/Madrid
BEGIN:VEVENT
SUMMARY:"La dona del segle", de Toni Cruanyes
DTSTART;TZID=Europe/Madrid;VALUE=DATE-TIME:20250330T120000
DTEND;TZID=Europe/Madrid;VALUE=DATE-TIME:20250330T130000
DTSTAMP;VALUE=DATE-TIME:20260423T203547Z
UID:4d72068b603267f64ad484cde3e8029b
CREATED;VALUE=DATE-TIME:20250330T000000Z
CATEGORIES:Literatura
LOCATION:Sala Odèon del TMC - Plaça 1 d'octubre
ORGANIZER:Biblioteca P. Gual i Pujadas
COMMENT:Preu: Gratuït
DESCRIPTION:Presentació del llibre
URL:https://www.canetdemar.cat/document.php?id=27150
END:VEVENT
END:VCALENDAR