BEGIN:VCALENDAR
VERSION:2.0
PRODID:-//Plone.org//NONSGML plone.app.event//EN
X-WR-TIMEZONE:Europe/Madrid
BEGIN:VEVENT
SUMMARY:Assistència a la Calçotada amb el Club Petanca Maresme
DTSTART;TZID=Europe/Madrid;VALUE=DATE-TIME:20250301T133000
DTEND;TZID=Europe/Madrid;VALUE=DATE-TIME:20250301T143000
DTSTAMP;VALUE=DATE-TIME:20260424T152448Z
UID:812526da3b9cd195cfcab76d37b9bf97
CREATED;VALUE=DATE-TIME:20250301T000000Z
CATEGORIES:Agenda institucional
LOCATION:Masia Tordera - c/ Girona, 32-34 Tordera
URL:https://www.canetdemar.cat/document.php?id=27128
END:VEVENT
END:VCALENDAR