BEGIN:VCALENDAR
VERSION:2.0
PRODID:-//Plone.org//NONSGML plone.app.event//EN
X-WR-TIMEZONE:Europe/Madrid
BEGIN:VEVENT
SUMMARY:Assistència a la Celebració de Dijous Gras - La Nit Grassa
DTSTART;TZID=Europe/Madrid;VALUE=DATE-TIME:20250227T203000
DTEND;TZID=Europe/Madrid;VALUE=DATE-TIME:20250227T213000
DTSTAMP;VALUE=DATE-TIME:20260424T203644Z
UID:681b6201a233af04c53b17a810406622
CREATED;VALUE=DATE-TIME:20250227T000000Z
CATEGORIES:Agenda institucional
LOCATION:Envelat de Vil·la Flora
URL:https://www.canetdemar.cat/document.php?id=27125
END:VEVENT
END:VCALENDAR