BEGIN:VCALENDAR
VERSION:2.0
PRODID:-//Plone.org//NONSGML plone.app.event//EN
X-WR-TIMEZONE:Europe/Madrid
BEGIN:VEVENT
SUMMARY:Reunió Canets del Món
DTSTART;TZID=Europe/Madrid;VALUE=DATE-TIME:20250227T130000
DTEND;TZID=Europe/Madrid;VALUE=DATE-TIME:20250227T140000
DTSTAMP;VALUE=DATE-TIME:20260425T153145Z
UID:b1b07322ca587ea7e2c715673e3a3746
CREATED;VALUE=DATE-TIME:20250227T000000Z
CATEGORIES:Agenda institucional
URL:https://www.canetdemar.cat/document.php?id=27123
END:VEVENT
END:VCALENDAR