BEGIN:VCALENDAR
VERSION:2.0
PRODID:-//Plone.org//NONSGML plone.app.event//EN
X-WR-TIMEZONE:Europe/Madrid
BEGIN:VEVENT
SUMMARY:Assistència a l'Acte Institucional de nomenament de les Pistes municipals d'Atletisme Jordi Llopart i IIa Gran Marxa Atlètica Jordi Llopart
DTSTART;TZID=Europe/Madrid;VALUE=DATE-TIME:20250223T103000
DTEND;TZID=Europe/Madrid;VALUE=DATE-TIME:20250223T113000
DTSTAMP;VALUE=DATE-TIME:20260424T012334Z
UID:07b414703cde9f675469ca3784c99c3d
CREATED;VALUE=DATE-TIME:20250223T000000Z
CATEGORIES:Agenda institucional
LOCATION:Pistes d'Atletisme Municipals
URL:https://www.canetdemar.cat/document.php?id=27114
END:VEVENT
END:VCALENDAR