BEGIN:VCALENDAR
VERSION:2.0
PRODID:-//Plone.org//NONSGML plone.app.event//EN
X-WR-TIMEZONE:Europe/Madrid
BEGIN:VEVENT
SUMMARY:Ple ordinàri del mes de març
DTSTART;TZID=Europe/Madrid;VALUE=DATE-TIME:20250327T183000
DTEND;TZID=Europe/Madrid;VALUE=DATE-TIME:20250327T193000
DTSTAMP;VALUE=DATE-TIME:20260424T201223Z
UID:d2e2bf0e0b06f45dd85846a774fd39b0
CREATED;VALUE=DATE-TIME:20250327T000000Z
CATEGORIES:Agenda institucional
LOCATION:Sala de plens
URL:https://www.canetdemar.cat/document.php?id=27112
END:VEVENT
END:VCALENDAR