BEGIN:VCALENDAR
VERSION:2.0
PRODID:-//Plone.org//NONSGML plone.app.event//EN
X-WR-TIMEZONE:Europe/Madrid
BEGIN:VEVENT
SUMMARY:Ple ordinàri del mes de febrer
DTSTART;TZID=Europe/Madrid;VALUE=DATE-TIME:20250220T183000
DTEND;TZID=Europe/Madrid;VALUE=DATE-TIME:20250220T193000
DTSTAMP;VALUE=DATE-TIME:20260425T010643Z
UID:45da14d30533cce7405ab02b2b9861a8
CREATED;VALUE=DATE-TIME:20250220T000000Z
CATEGORIES:Agenda institucional
LOCATION:Sala de plens
URL:https://www.canetdemar.cat/document.php?id=27111
END:VEVENT
END:VCALENDAR