BEGIN:VCALENDAR
VERSION:2.0
PRODID:-//Plone.org//NONSGML plone.app.event//EN
X-WR-TIMEZONE:Europe/Madrid
BEGIN:VEVENT
SUMMARY:Reunió arquitecta municipal
DTSTART;TZID=Europe/Madrid;VALUE=DATE-TIME:20250220T100000
DTEND;TZID=Europe/Madrid;VALUE=DATE-TIME:20250220T110000
DTSTAMP;VALUE=DATE-TIME:20260422T183348Z
UID:bbf7d3dec6f84f087f29943d7e447a25
CREATED;VALUE=DATE-TIME:20250220T000000Z
CATEGORIES:Agenda institucional
URL:https://www.canetdemar.cat/document.php?id=27103
END:VEVENT
END:VCALENDAR