BEGIN:VCALENDAR
VERSION:2.0
PRODID:-//Plone.org//NONSGML plone.app.event//EN
X-WR-TIMEZONE:Europe/Madrid
BEGIN:VEVENT
SUMMARY:Reunió organització Festa Esquadres i Junta Local de Seguretat
DTSTART;TZID=Europe/Madrid;VALUE=DATE-TIME:20250219T130000
DTEND;TZID=Europe/Madrid;VALUE=DATE-TIME:20250219T140000
DTSTAMP;VALUE=DATE-TIME:20260424T010832Z
UID:21c8ef5a832fec807b9d03c4d40517a2
CREATED;VALUE=DATE-TIME:20250219T000000Z
CATEGORIES:Agenda institucional
LOCATION:Sala annexa Alcaldia
URL:https://www.canetdemar.cat/document.php?id=27100
END:VEVENT
END:VCALENDAR