BEGIN:VCALENDAR
VERSION:2.0
PRODID:-//Plone.org//NONSGML plone.app.event//EN
X-WR-TIMEZONE:Europe/Madrid
BEGIN:VEVENT
SUMMARY:Trobada amb Nadia Ghulam
DTSTART;TZID=Europe/Madrid;VALUE=DATE-TIME:20250404T180000
DTEND;TZID=Europe/Madrid;VALUE=DATE-TIME:20250404T190000
DTSTAMP;VALUE=DATE-TIME:20260423T185626Z
UID:5bd2ffc21847f4f733b9feb082338bb2
CREATED;VALUE=DATE-TIME:20250404T000000Z
CATEGORIES:Literatura
LOCATION:Biblioteca P. Gual i Pujadas
ORGANIZER:Biblioteca P. Gual i Pujadas
COMMENT:Preu: Gratuït
DESCRIPTION:La primera estrella del vespre
URL:https://www.canetdemar.cat/document.php?id=27084
END:VEVENT
END:VCALENDAR